BEGIN:VCALENDAR
VERSION:2.0
PRODID:-//Venger Arstun//NONSGML kigkonsult.se iCalcreator 2.41.92//
CALSCALE:GREGORIAN
METHOD:PUBLISH
UID:34386234-6334-4631-a137-636535636261
X-WR-CALNAME:iCagenda
X-WR-CALDESC:Event Management Extension for Joomla!
X-WR-RELCALID:3E26604A-50F4-4449-8B3E-E4F4932D05B5
X-WR-TIMEZONE:Europe/Oslo
BEGIN:VTIMEZONE
TZID:Europe/Oslo
TZUNTIL:20261025T010000Z
BEGIN:STANDARD
TZNAME:CET
DTSTART:20241027T030000
TZOFFSETFROM:+0200
TZOFFSETTO:+0100
RDATE:20251026T030000
END:STANDARD
BEGIN:DAYLIGHT
TZNAME:CEST
DTSTART:20240331T020000
TZOFFSETFROM:+0100
TZOFFSETTO:+0200
RDATE:20250330T020000
RDATE:20260329T020000
END:DAYLIGHT
END:VTIMEZONE
BEGIN:VEVENT
UID:63636665-3965-4432-b937-396262376432
DTSTAMP:20260424T111454Z
CATEGORIES:Primstaven vinter
CLASS:PUBLIC
DESCRIPTION;ALTREP="CID:<FFFF__=0ABBE548DFE235B58f9e8a93d@coffeebean.com>":
 Merke: Tre uten løv\, hjulrokk\, åkerteiger med kors.Værmerke: Godt vær i 
 dag gir en god vår.Sønnavind og takdrypp varsler om et godt ullår.\nHelgen
 : Pave Gregor den Store\nEn sopelime ble satt utenfor døra for å holde lus
  og lopper ute.Fra Gregormesse kunne man legge seg og stå opp uten å tenne
  lys.
DTSTART:20250312T001500Z
DTEND:20250312T001500Z
GEO:00;0
LOCATION:
ORGANIZER:
SEQUENCE:1
SUMMARY:Gregormesse\, 12. mars
TRANSP:OPAQUE
URL:https://mail.vengergarden.no/index.php/component/icagenda/40-gregormess
 e-12-mars/2025-03-12-01-15?layout=vcal
END:VEVENT
END:VCALENDAR
