BEGIN:VCALENDAR
VERSION:2.0
PRODID:-//Venger Arstun//NONSGML kigkonsult.se iCalcreator 2.41.92//
CALSCALE:GREGORIAN
METHOD:PUBLISH
UID:66343964-3562-4338-a234-623162303465
X-WR-CALNAME:iCagenda
X-WR-CALDESC:Event Management Extension for Joomla!
X-WR-RELCALID:3E26604A-50F4-4449-8B3E-E4F4932D05B5
X-WR-TIMEZONE:Europe/Oslo
BEGIN:VTIMEZONE
TZID:Europe/Oslo
TZUNTIL:20271031T010000Z
BEGIN:STANDARD
TZNAME:CET
DTSTART:20251026T030000
TZOFFSETFROM:+0200
TZOFFSETTO:+0100
RDATE:20261025T030000
END:STANDARD
BEGIN:DAYLIGHT
TZNAME:CEST
DTSTART:20250330T020000
TZOFFSETFROM:+0100
TZOFFSETTO:+0200
RDATE:20260329T020000
RDATE:20270328T020000
END:DAYLIGHT
END:VTIMEZONE
BEGIN:VEVENT
UID:62363363-3935-4339-b165-333635306264
DTSTAMP:20260424T111446Z
CATEGORIES:Primstaven vinter
CLASS:PUBLIC
DESCRIPTION;ALTREP="CID:<FFFF__=0ABBE548DFE235B58f9e8a93d@coffeebean.com>":
 Marimesse\, Vårfruemesse\, Vårmesse:Merke: Et tre med kors\, krone\, lyses
 takeVærmerke: Marimesse-nettene: Tre netter før 25. spådde våren og de tre
  nettene etter spådde været for høsten.\nSom været er i dag skal det vere 
 i sju uker.Er det kaldt\, blir det kald vår. Er det varmt\, så blir det va
 rm vår.Mild Marimesse spår godt vær\, – eller: Vårtegn spår ille\, for da 
 kan vinteren ta hevn.\nSå lenge bekkene surrer før Marimesse\, så lenge sk
 al de tie etter.\nSlutt på sledeføret.\nEn gunstig dag å plante trær på.
DTSTART:20260324T234200Z
DTEND:20260324T234200Z
GEO:00;0
LOCATION:
ORGANIZER:
SEQUENCE:1
SUMMARY:Marimesse\, 25. mars
TRANSP:OPAQUE
URL:https://mail.vengergarden.no/index.php/component/icagenda/44-marimesse-
 25-mars/2026-03-25-00-42?layout=vcal
END:VEVENT
END:VCALENDAR
