BEGIN:VCALENDAR
VERSION:2.0
PRODID:-//Venger Arstun//NONSGML kigkonsult.se iCalcreator 2.41.92//
CALSCALE:GREGORIAN
METHOD:PUBLISH
UID:32393436-3532-4165-b430-313930336539
X-WR-CALNAME:iCagenda
X-WR-CALDESC:Event Management Extension for Joomla!
X-WR-RELCALID:3E26604A-50F4-4449-8B3E-E4F4932D05B5
X-WR-TIMEZONE:Europe/Oslo
BEGIN:VTIMEZONE
TZID:Europe/Oslo
TZUNTIL:20291028T010000Z
BEGIN:STANDARD
TZNAME:CET
DTSTART:20271031T030000
TZOFFSETFROM:+0200
TZOFFSETTO:+0100
RDATE:20281029T030000
END:STANDARD
BEGIN:DAYLIGHT
TZNAME:CEST
DTSTART:20270328T020000
TZOFFSETFROM:+0100
TZOFFSETTO:+0200
RDATE:20280326T020000
RDATE:20290325T020000
END:DAYLIGHT
END:VTIMEZONE
BEGIN:VEVENT
UID:34386462-6131-4634-b062-393537633633
DTSTAMP:20260424T111436Z
CATEGORIES:Primstaven vinter
CLASS:PUBLIC
DESCRIPTION;ALTREP="CID:<FFFF__=0ABBE548DFE235B58f9e8a93d@coffeebean.com>":
 Andreasmesse\, Andresmesse\, Anders fiskerHelgen: Apostelen AndreasMerke: 
 Fiskekrok\, skjevt kors\, nøkkel\, revesaks\, AndreaskorsVærmerke: Kulde g
 ir kald vår.\nOc skal Veiren icke lengere holdes fra Faarene.Revefellene s
 ettes opp. Julefisken fiskes.
DTSTART:20271129T230200Z
DTEND:20271129T230200Z
GEO:00;0
LOCATION:
ORGANIZER:
SEQUENCE:1
SUMMARY:Andreasmesse\, 30. november
TRANSP:OPAQUE
URL:https://mail.vengergarden.no/index.php/merkedager/11-andreasmesse-30-no
 vember/2027-11-30-00-02?layout=vcal
END:VEVENT
END:VCALENDAR
