BEGIN:VCALENDAR
VERSION:2.0
PRODID:-//Venger Arstun//NONSGML kigkonsult.se iCalcreator 2.41.92//
CALSCALE:GREGORIAN
METHOD:PUBLISH
UID:30376632-3563-4232-b033-643532646633
X-WR-CALNAME:iCagenda
X-WR-CALDESC:Event Management Extension for Joomla!
X-WR-RELCALID:3E26604A-50F4-4449-8B3E-E4F4932D05B5
X-WR-TIMEZONE:Europe/Oslo
BEGIN:VTIMEZONE
TZID:Europe/Oslo
TZUNTIL:20291028T010000Z
BEGIN:STANDARD
TZNAME:CET
DTSTART:20271031T030000
TZOFFSETFROM:+0200
TZOFFSETTO:+0100
RDATE:20281029T030000
END:STANDARD
BEGIN:DAYLIGHT
TZNAME:CEST
DTSTART:20270328T020000
TZOFFSETFROM:+0100
TZOFFSETTO:+0200
RDATE:20280326T020000
RDATE:20290325T020000
END:DAYLIGHT
END:VTIMEZONE
BEGIN:VEVENT
UID:38313733-3665-4637-b035-393535326332
DTSTAMP:20260424T112721Z
CATEGORIES:Primstaven vinter
CLASS:PUBLIC
DESCRIPTION;ALTREP="CID:<FFFF__=0ABBE548DFE235B58f9e8a93d@coffeebean.com>":
 Merke: Bjørkekvist\, kapell\, rokkesnelleVæret: Uvær ventes\nEn smørklatt 
 på veggen ga varsel om vårværet.Fjøsjenta må legge seg tidlig\, ellers kan
  hun få problemer med budskapen.
DTSTART:20280316T232000Z
DTEND:20280316T232000Z
GEO:00;0
LOCATION:
ORGANIZER:
SEQUENCE:1
SUMMARY:Gjertrudmesse\, 17. mars
TRANSP:OPAQUE
URL:https://mail.vengergarden.no/index.php/merkedager/41-gjertrudmesse-17-m
 ars/2028-03-17-00-20?layout=vcal
END:VEVENT
END:VCALENDAR
